BEGIN:VCALENDAR
VERSION:2.0
PRODID:-//wp-events-plugin.com//7.1.7//EN
BEGIN:VEVENT
UID:530@tkae.org
DTSTART;TZID=America/New_York:20250403T103000
DTEND;TZID=America/New_York:20250403T103000
DTSTAMP:20250330T022222Z
URL:https://tkae.org/events/what-we-took-with-us-the-exodus-reparations-an
 d-dignity/
SUMMARY:What We Took With Us: The Exodus\, Reparations and Dignity
DESCRIPTION:When the Israelites left Egypt\, they did not just walk into fr
 eedom\; they left with silver\, gold and garments from their former oppres
 sors.\n\nIn this pre-Passover conversation\, we will look at the Exodus th
 rough a modern lens.\n\nWith Cantor\, Rabbi Mark\n\nRegister here.
ATTACH;FMTTYPE=image/jpeg:https://tkae.org/wp-content/uploads/IMG_9807.jpg
CATEGORIES:IJKL
END:VEVENT
BEGIN:VTIMEZONE
TZID:America/New_York
X-LIC-LOCATION:America/New_York
BEGIN:DAYLIGHT
DTSTART:20250309T030000
TZOFFSETFROM:-0500
TZOFFSETTO:-0400
TZNAME:EDT
END:DAYLIGHT
END:VTIMEZONE
END:VCALENDAR